BEGIN:VCALENDAR
VERSION:2.0
PRODID:-//ChamberMaster//Event Calendar 2.0//EN
METHOD:PUBLISH
X-PUBLISHED-TTL:P3D
REFRESH-INTERVAL:P3D
CALSCALE:GREGORIAN
BEGIN:VEVENT
DTSTART:20260514T213000Z
DTEND:20260514T233000Z
X-MICROSOFT-CDO-ALLDAYEVENT:FALSE
SUMMARY:Leadership Glades Class of 2026 Graduation
DESCRIPTION:You're Invited!  \n\nPlease join us in celebrating the Graduation Ceremony for the Leadership Glades Class of 2026\n\n  Dolly Hand Cultural Arts Center\n\n  May 14\,2026\n\n  Social Time begins at 5:30 PM\n\nWe look forward to honoring this outstanding class with you!
X-ALT-DESC;FMTTYPE=text/html:<p data-end="22" data-start="0"><strong data-end="19" data-start="0">You&#39\;re Invited!</strong>&nbsp\;&#127891\;</p>\n\n<p data-end="226" data-start="24">Please join us in celebrating the&nbsp\;<strong data-end="121" data-start="58">Graduation Ceremony for the Leadership Glades Class of 2026</strong></p>\n\n<p data-end="216" data-start="112">&#128205\; <strong>Dolly Hand</strong><b>&nbsp\;Cultural Arts Center</b><br />\n&#128197\; May 14\,2026<br data-end="192" data-start="189" />\n&#128352\;&nbsp\;<em data-end="226" data-start="195">Social Time begins at 5:30 PM</em></p>\n\n<p data-end="496" data-start="228">We look forward to honoring this outstanding class with you!<br />\n<br />\n&nbsp\;</p>\n
LOCATION:Dolly Hand Cultural Art Center 1977 SW College Dr. Belle Glade\, FL 33430
UID:e.3675.9
SEQUENCE:3
DTSTAMP:20260423T013547Z
URL:https://lg.bellegladechamber.com/events/details/leadership-glades-class-of-2026-graduation-9
END:VEVENT

END:VCALENDAR
